BEGIN:VCALENDAR
VERSION:2.0
PRODID:-//wp-events-plugin.com//7.0.4//EN
TZID:America/Winnipeg
X-WR-TIMEZONE:America/Winnipeg
BEGIN:VEVENT
UID:20@bradfriesen.com
DTSTART;TZID=America/Winnipeg:20190428T100000
DTEND;TZID=America/Winnipeg:20190428T160000
DTSTAMP:20200212T172148Z
URL:https://bradfriesen.com/events/professional-development-clinic/
SUMMARY:SUP Instructor Professional Development Clinic
DESCRIPTION:This single day program Paddle Canada Professional Development 
 clinic
ATTACH;FMTTYPE=image/jpeg:https://bradfriesen.com/wp-content/uploads/2017/
 05/Flatwater-SUP-Instructor-Course.jpg
CATEGORIES:Instructor Training
LOCATION:Cook's Creek\, 707 Colville Rd\, East Selkirk\, Manitoba\, R0E 0M0
 \, Canada
GEO:50.14026677709136;-96.84193782621156
X-APPLE-STRUCTURED-LOCATION;VALUE=URI;X-ADDRESS=707 Colville Rd\, East Selk
 irk\, Manitoba\, R0E 0M0\, Canada;X-APPLE-RADIUS=100;X-TITLE=Cook's Creek:
 geo:50.14026677709136,-96.84193782621156
END:VEVENT
BEGIN:VTIMEZONE
TZID:America/Winnipeg
X-LIC-LOCATION:America/Winnipeg
BEGIN:DAYLIGHT
DTSTART:20190310T030000
TZOFFSETFROM:-0600
TZOFFSETTO:-0500
TZNAME:CDT
END:DAYLIGHT
END:VTIMEZONE
END:VCALENDAR